BEGIN:VCALENDAR
VERSION:2.0
PRODID:-//Lokschuppen Hochdahl - ECPv6.0.1.1//NONSGML v1.0//EN
CALSCALE:GREGORIAN
METHOD:PUBLISH
X-WR-CALNAME:Lokschuppen Hochdahl
X-ORIGINAL-URL:https://www.lokschuppen-hochdahl.de/wordpress
X-WR-CALDESC:Veranstaltungen für Lokschuppen Hochdahl
REFRESH-INTERVAL;VALUE=DURATION:PT1H
X-Robots-Tag:noindex
X-PUBLISHED-TTL:PT1H
BEGIN:VTIMEZONE
TZID:Europe/Berlin
BEGIN:DAYLIGHT
TZOFFSETFROM:+0100
TZOFFSETTO:+0200
TZNAME:CEST
DTSTART:20260329T010000
END:DAYLIGHT
BEGIN:STANDARD
TZOFFSETFROM:+0200
TZOFFSETTO:+0100
TZNAME:CET
DTSTART:20261025T010000
END:STANDARD
END:VTIMEZONE
BEGIN:VEVENT
DTSTART;TZID=Europe/Berlin:20261018T100000
DTEND;TZID=Europe/Berlin:20261018T160000
DTSTAMP:20260423T031224
CREATED:20260204T215831Z
LAST-MODIFIED:20260204T215902Z
UID:4542-1792317600-1792339200@www.lokschuppen-hochdahl.de
SUMMARY:Ladies Markt
DESCRIPTION:Hier ist für jede Frau etwas dabei – hochwertige Kleidung in allen Größen sowie Schmuck und schicke Modeaccessoires. \nAuch im Frühjahr / Herbst gibt es im Lokschuppen Hochdahl einen Ladies Markt. Das ist ein 2nd-Hand-Mode Markt rund um die Frau. Die Angebote lassen Frauenherzen höherschlagen. Ob sportlich\, elegant oder mehr\, hier finden Sie Ihre Lieblingsstücke für alle Gelegenheiten. \nEintritt: 2\,00 Euro
URL:https://www.lokschuppen-hochdahl.de/wordpress/event/ladies-markt-9/
END:VEVENT
BEGIN:VEVENT
DTSTART;TZID=Europe/Berlin:20261025T080000
DTEND;TZID=Europe/Berlin:20261025T170000
DTSTAMP:20260423T031224
CREATED:20260204T222514Z
LAST-MODIFIED:20260204T222514Z
UID:4578-1792915200-1792947600@www.lokschuppen-hochdahl.de
SUMMARY:Museumstag im Lokschuppen - Saisonabschluss
DESCRIPTION:Im Mittelpunkt des Museums steht die Darstellung der Geschichte der Ersten Eisenbahn in Westdeutschland. Das erste Teilstück der Strecke wurde schon am 20.12.1838 eröffnet.\nDas Museum bietet außerdem zahlreiche Exponate wie eine historische Fahrkartenausgabe oder bedienbare Signale und einen Außenbereich mit einer Fahrzeugausstellung – also Eisenbahn zum Anfassen. Stilgerecht sind viele Fahrzeuge an einer historischen Bahnsteighalle aufgestellt. Auch unser Bahnladen ist geöffnet.
URL:https://www.lokschuppen-hochdahl.de/wordpress/event/museumstag-im-lokschuppen-saisonabschluss/
END:VEVENT
BEGIN:VEVENT
DTSTART;TZID=Europe/Berlin:20261030T160000
DTEND;TZID=Europe/Berlin:20261030T180000
DTSTAMP:20260423T031224
CREATED:20260204T220718Z
LAST-MODIFIED:20260204T220718Z
UID:4554-1793376000-1793383200@www.lokschuppen-hochdahl.de
SUMMARY:Modellbahntage
DESCRIPTION:Modellbahntage im Historischen Lokschuppen Hochdahl mit Eisenbahnanlagen mit unterschiedlichen Spurweiten aus der Region\, Kartonmodellbauern\, Basteln mit Kindern\, unserem Eisenbahn-Flohmarkt und vielem mehr \n—- Eintritt 2 Euro für Erwachsene\, Jugendliche 14 bis 18 Jahre 1 Euro\, Kinder unter 14 Jahren kostenlos
URL:https://www.lokschuppen-hochdahl.de/wordpress/event/modellbahntage-15/
END:VEVENT
BEGIN:VEVENT
DTSTART;TZID=Europe/Berlin:20261031T100000
DTEND;TZID=Europe/Berlin:20261031T180000
DTSTAMP:20260423T031224
CREATED:20260204T220435Z
LAST-MODIFIED:20260204T220509Z
UID:4550-1793440800-1793469600@www.lokschuppen-hochdahl.de
SUMMARY:Modellbahntage
DESCRIPTION:Modellbahntage im Historischen Lokschuppen Hochdahl mit Eisenbahnanlagen mit unterschiedlichen Spurweiten aus der Region\, Kartonmodellbauern\, Basteln mit Kindern\, unserem Eisenbahn-Flohmarkt und vielem mehr \n—- Eintritt 2 Euro für Erwachsene\, Jugendliche 14 bis 18 Jahre 1 Euro\, Kinder unter 14 Jahren kostenlos
URL:https://www.lokschuppen-hochdahl.de/wordpress/event/modellbahntage-14/
END:VEVENT
END:VCALENDAR